BEGIN:VCALENDAR
VERSION:2.0
PRODID:-//Radionice HZZ-a - ECPv5.16.3.1//NONSGML v1.0//EN
CALSCALE:GREGORIAN
METHOD:PUBLISH
X-ORIGINAL-URL:https://radionice.hzz.hr
X-WR-CALDESC:Radionice za Radionice HZZ-a
REFRESH-INTERVAL;VALUE=DURATION:PT1H
X-Robots-Tag:noindex
X-PUBLISHED-TTL:PT1H
BEGIN:VTIMEZONE
TZID:Europe/Zagreb
BEGIN:DAYLIGHT
TZOFFSETFROM:+0100
TZOFFSETTO:+0200
TZNAME:CEST
DTSTART:20240331T010000
END:DAYLIGHT
BEGIN:STANDARD
TZOFFSETFROM:+0200
TZOFFSETTO:+0100
TZNAME:CET
DTSTART:20241027T010000
END:STANDARD
END:VTIMEZONE
BEGIN:VEVENT
DTSTART;TZID=Europe/Zagreb:20240126T090000
DTEND;TZID=Europe/Zagreb:20240126T110000
DTSTAMP:20260421T070011
CREATED:20240116T110950Z
LAST-MODIFIED:20240125T094336Z
UID:58622-1706259600-1706266800@radionice.hzz.hr
SUMMARY:Radionica Samozapošljavanje
DESCRIPTION:Besplatna\, neobvezna (ali bodovno vrednovana) radionica za zainteresirane\nkorisnike potpore za samozapošljavanje. Da bi se bodovi od sudjelovanja na\nradionici priznali kod predaje zahtjeva\, na radionici morate sudjelovati prije\npredaje zahtjeva.\nRadionica se održava on-line putem Microsoft Teams aplikacije. Pozivnicu za\nuključivanje na radionicu dobiti će te na e-mail najkasnije 1 dan prije početka\nradionice.\nViše informacija o potpori za samozapošljavanje saznajte ovdje.
URL:https://radionice.hzz.hr/radionica/radionica-samozaposljavanje-270/
LOCATION:Online radionica\, Croatia (Local Name: Hrvatska)
CATEGORIES:Virtualna radionica
ORGANIZER;CN="HZZ%20Regionalni%20ured%20Zagreb":MAILTO:radionice.zagreb@hzz.hr
END:VEVENT
BEGIN:VEVENT
DTSTART;TZID=Europe/Zagreb:20240126T120000
DTEND;TZID=Europe/Zagreb:20240126T140000
DTSTAMP:20260421T070011
CREATED:20240112T105032Z
LAST-MODIFIED:20240112T105032Z
UID:57809-1706270400-1706277600@radionice.hzz.hr
SUMMARY:Radionica Samozapošljavanje
DESCRIPTION:Besplatna\, neobvezna (ali bodovno vrednovana) radionica za zainteresirane\nkorisnike potpore za samozapošljavanje. Da bi se bodovi od sudjelovanja na\nradionici priznali kod predaje zahtjeva\, na radionici morate sudjelovati prije\npredaje zahtjeva.\nRadionica se održava on-line putem Microsoft Teams aplikacije. Pozivnicu za\nuključivanje na radionicu dobiti će te na e-mail najkasnije 1 dan prije početka\nradionice.\nViše informacija o potpori za samozapošljavanje saznajte ovdje.
URL:https://radionice.hzz.hr/radionica/radionica-samozaposljavanje-198/
LOCATION:Online radionica\, Croatia (Local Name: Hrvatska)
CATEGORIES:Virtualna radionica
ORGANIZER;CN="HZZ%20Podru%C4%8Dni%20ured%20Virovitica":MAILTO:radionice.virovitica@hzz.hr
END:VEVENT
BEGIN:VEVENT
DTSTART;TZID=Europe/Zagreb:20240126T123000
DTEND;TZID=Europe/Zagreb:20240126T143000
DTSTAMP:20260421T070011
CREATED:20240112T122728Z
LAST-MODIFIED:20240112T131337Z
UID:57877-1706272200-1706279400@radionice.hzz.hr
SUMMARY:Radionica Samozapošljavanje
DESCRIPTION:Besplatna\, neobvezna (ali bodovno vrednovana) radionica za zainteresirane korisnike potpore za samozapošljavanje. Da bi se bodovi od sudjelovanja na radionici priznali kod predaje zahtjeva\, na radionici morate sudjelovati prije predaje zahtjeva.Radionica se održava on-line putem Microsoft Teams aplikacije. Pozivnicu za uključivanje na radionicu dobiti će te na e-mail najkasnije 1 dan prije početka radionice. \nViše informacija o Potpori za samozapošljavanje saznajte ovdje. \nNAPOMENA: Prednost za sudjelovanje na radionici imaju osobe u evidenciji nezaposlenih. Poziv na radionicu osobe koje nisu prijavljene u evidenciju nezaposlenih zaprimiti će ukoliko na radionici ostane slobodnih mjesta. \nAko nije dostupna opcija najave dolaska na radionicu znači da su sva mjesta zauzeta\, ili je istekao rok do kojega zaprimamo najave dolaska na ovu radionicu. 
URL:https://radionice.hzz.hr/radionica/radionica-samozaposljavanje-202/
LOCATION:Online radionica\, Croatia (Local Name: Hrvatska)
CATEGORIES:Virtualna radionica
ORGANIZER;CN="HZZ%20Podru%C4%8Dni%20ured%20Po%C5%BEega":MAILTO:radionice.pozega@hzz.hr
END:VEVENT
END:VCALENDAR