BEGIN:VCALENDAR
VERSION:2.0
PRODID:-//Radionice HZZ-a - ECPv5.16.3.1//NONSGML v1.0//EN
CALSCALE:GREGORIAN
METHOD:PUBLISH
X-WR-CALNAME:Radionice HZZ-a
X-ORIGINAL-URL:https://radionice.hzz.hr
X-WR-CALDESC:Radionice za Radionice HZZ-a
REFRESH-INTERVAL;VALUE=DURATION:PT1H
X-Robots-Tag:noindex
X-PUBLISHED-TTL:PT1H
BEGIN:VTIMEZONE
TZID:Europe/Zagreb
BEGIN:DAYLIGHT
TZOFFSETFROM:+0100
TZOFFSETTO:+0200
TZNAME:CEST
DTSTART:20240331T010000
END:DAYLIGHT
BEGIN:STANDARD
TZOFFSETFROM:+0200
TZOFFSETTO:+0100
TZNAME:CET
DTSTART:20241027T010000
END:STANDARD
END:VTIMEZONE
BEGIN:VEVENT
DTSTART;TZID=Europe/Zagreb:20240221T080000
DTEND;TZID=Europe/Zagreb:20240221T093000
DTSTAMP:20260422T025850
CREATED:20240212T071209Z
LAST-MODIFIED:20240212T071209Z
UID:61677-1708502400-1708507800@radionice.hzz.hr
SUMMARY:Radionica Samozapošljavanje
DESCRIPTION:Besplatna\, neobvezna (ali bodovno vrednovana) radionica za zainteresirane\nkorisnike potpore za samozapošljavanje. Da bi se bodovi od sudjelovanja na\nradionici priznali kod predaje zahtjeva\, na radionici morate sudjelovati prije\npredaje zahtjeva.\nRadionica se održava on-line putem Microsoft Teams aplikacije. Pozivnicu za\nuključivanje na radionicu dobiti ćete na e-mail nakon prijave na radionicu.\nViše informacija o potpori za samozapošljavanje saznajte ovdje.
URL:https://radionice.hzz.hr/radionica/radionica-samozaposljavanje-6/
LOCATION:Online radionica\, Croatia (Local Name: Hrvatska)
CATEGORIES:Virtualna radionica
ORGANIZER;CN="HZZ%20Podru%C4%8Dni%20ured%20Vukovar":MAILTO:radionice.vukovar@hzz.hr
END:VEVENT
BEGIN:VEVENT
DTSTART;TZID=Europe/Zagreb:20240214T080000
DTEND;TZID=Europe/Zagreb:20240214T093000
DTSTAMP:20260422T025850
CREATED:20240206T065457Z
LAST-MODIFIED:20240212T120310Z
UID:61088-1707897600-1707903000@radionice.hzz.hr
SUMMARY:Radionica Samozapošljavanje
DESCRIPTION:Besplatna\, neobvezna (ali bodovno vrednovana) radionica za zainteresirane\nkorisnike potpore za samozapošljavanje. Da bi se bodovi od sudjelovanja na\nradionici priznali kod predaje zahtjeva\, na radionici morate sudjelovati prije\npredaje zahtjeva.\nRadionica se održava on-line putem Microsoft Teams aplikacije. Pozivnicu za\nuključivanje na radionicu dobiti ćete na e-mail nakon prijave na radionicu.\nViše informacija o potpori za samozapošljavanje saznajte ovdje.
URL:https://radionice.hzz.hr/radionica/radionica-samozaposljavanje-217/
LOCATION:Online radionica\, Croatia (Local Name: Hrvatska)
CATEGORIES:Virtualna radionica
ORGANIZER;CN="HZZ%20Podru%C4%8Dni%20ured%20Vukovar":MAILTO:radionice.vukovar@hzz.hr
END:VEVENT
BEGIN:VEVENT
DTSTART;TZID=Europe/Zagreb:20240207T080000
DTEND;TZID=Europe/Zagreb:20240207T093000
DTSTAMP:20260422T025850
CREATED:20240129T114741Z
LAST-MODIFIED:20240129T114741Z
UID:60334-1707292800-1707298200@radionice.hzz.hr
SUMMARY:Radionica Samozapošljavanje
DESCRIPTION:Besplatna\, neobvezna (ali bodovno vrednovana) radionica za zainteresirane\nkorisnike potpore za samozapošljavanje. Da bi se bodovi od sudjelovanja na\nradionici priznali kod predaje zahtjeva\, na radionici morate sudjelovati prije\npredaje zahtjeva.\nRadionica se održava on-line putem Microsoft Teams aplikacije. Pozivnicu za\nuključivanje na radionicu dobiti ćete na e-mail nakon prijave na radionicu.\nViše informacija o potpori za samozapošljavanje saznajte ovdje.
URL:https://radionice.hzz.hr/radionica/radionica-samozaposljavanje-295/
LOCATION:Online radionica\, Croatia (Local Name: Hrvatska)
CATEGORIES:Virtualna radionica
ORGANIZER;CN="HZZ%20Podru%C4%8Dni%20ured%20Vukovar":MAILTO:radionice.vukovar@hzz.hr
END:VEVENT
BEGIN:VEVENT
DTSTART;TZID=Europe/Zagreb:20240131T080000
DTEND;TZID=Europe/Zagreb:20240131T093000
DTSTAMP:20260422T025850
CREATED:20240118T115545Z
LAST-MODIFIED:20240118T115545Z
UID:58921-1706688000-1706693400@radionice.hzz.hr
SUMMARY:Radionica Samozapošljavanje
DESCRIPTION:Besplatna\, neobvezna (ali bodovno vrednovana) radionica za zainteresirane\nkorisnike potpore za samozapošljavanje. Da bi se bodovi od sudjelovanja na\nradionici priznali kod predaje zahtjeva\, na radionici morate sudjelovati prije\npredaje zahtjeva.\nRadionica se održava on-line putem Microsoft Teams aplikacije. Pozivnicu za\nuključivanje na radionicu dobiti ćete na e-mail nakon prijave na radionicu.\nViše informacija o potpori za samozapošljavanje saznajte ovdje.
URL:https://radionice.hzz.hr/radionica/radionica-samozaposljavanje-278/
LOCATION:Online radionica\, Croatia (Local Name: Hrvatska)
CATEGORIES:Virtualna radionica
ORGANIZER;CN="HZZ%20Podru%C4%8Dni%20ured%20Vukovar":MAILTO:radionice.vukovar@hzz.hr
END:VEVENT
BEGIN:VEVENT
DTSTART;TZID=Europe/Zagreb:20240124T080000
DTEND;TZID=Europe/Zagreb:20240124T093000
DTSTAMP:20260422T025850
CREATED:20240112T125920Z
LAST-MODIFIED:20240112T125920Z
UID:57908-1706083200-1706088600@radionice.hzz.hr
SUMMARY:Radionica Samozapošljavanje
DESCRIPTION:Besplatna\, neobvezna (ali bodovno vrednovana) radionica za zainteresirane\nkorisnike potpore za samozapošljavanje. Da bi se bodovi od sudjelovanja na\nradionici priznali kod predaje zahtjeva\, na radionici morate sudjelovati prije\npredaje zahtjeva.\nRadionica se održava on-line putem Microsoft Teams aplikacije. Pozivnicu za\nuključivanje na radionicu dobiti ćete na e-mail nakon prijave na radionicu.\nViše informacija o potpori za samozapošljavanje saznajte ovdje.
URL:https://radionice.hzz.hr/radionica/radionica-samozaposljavanje-203/
LOCATION:Online radionica\, Croatia (Local Name: Hrvatska)
CATEGORIES:Virtualna radionica
ORGANIZER;CN="HZZ%20Podru%C4%8Dni%20ured%20Vukovar":MAILTO:radionice.vukovar@hzz.hr
END:VEVENT
BEGIN:VEVENT
DTSTART;TZID=Europe/Zagreb:20240117T080000
DTEND;TZID=Europe/Zagreb:20240117T093000
DTSTAMP:20260422T025850
CREATED:20240108T063902Z
LAST-MODIFIED:20240110T075744Z
UID:56108-1705478400-1705483800@radionice.hzz.hr
SUMMARY:Radionica Samozapošljavanje
DESCRIPTION:Besplatna\, neobvezna (ali bodovno vrednovana) radionica za zainteresirane\nkorisnike potpore za samozapošljavanje. Da bi se bodovi od sudjelovanja na\nradionici priznali kod predaje zahtjeva\, na radionici morate sudjelovati prije\npredaje zahtjeva.\nRadionica se održava on-line putem Microsoft Teams aplikacije. Pozivnicu za\nuključivanje na radionicu dobiti ćete na e-mail nakon prijave na radionicu.\nViše informacija o potpori za samozapošljavanje saznajte ovdje.
URL:https://radionice.hzz.hr/radionica/radionica-samozaposljavanje-176/
LOCATION:Online radionica\, Croatia (Local Name: Hrvatska)
CATEGORIES:Virtualna radionica
ORGANIZER;CN="HZZ%20Podru%C4%8Dni%20ured%20Vukovar":MAILTO:radionice.vukovar@hzz.hr
END:VEVENT
END:VCALENDAR