BEGIN:VCALENDAR
VERSION:2.0
PRODID:-//Radionice HZZ-a - ECPv5.16.3.1//NONSGML v1.0//EN
CALSCALE:GREGORIAN
METHOD:PUBLISH
X-ORIGINAL-URL:https://radionice.hzz.hr
X-WR-CALDESC:Radionice za Radionice HZZ-a
REFRESH-INTERVAL;VALUE=DURATION:PT1H
X-Robots-Tag:noindex
X-PUBLISHED-TTL:PT1H
BEGIN:VTIMEZONE
TZID:Europe/Zagreb
BEGIN:DAYLIGHT
TZOFFSETFROM:+0100
TZOFFSETTO:+0200
TZNAME:CEST
DTSTART:20260329T010000
END:DAYLIGHT
BEGIN:STANDARD
TZOFFSETFROM:+0200
TZOFFSETTO:+0100
TZNAME:CET
DTSTART:20261025T010000
END:STANDARD
END:VTIMEZONE
BEGIN:VEVENT
DTSTART;TZID=Europe/Zagreb:20260205T080000
DTEND;TZID=Europe/Zagreb:20260205T100000
DTSTAMP:20260423T065122
CREATED:20260126T104406Z
LAST-MODIFIED:20260203T082044Z
UID:89789-1770278400-1770285600@radionice.hzz.hr
SUMMARY:Radionica Samozapošljavanje
DESCRIPTION:Besplatna\, neobvezna (ali bodovno vrednovana) radionica za zainteresirane\nkorisnike potpore za samozapošljavanje. Da bi se bodovi od sudjelovanja na\nradionici priznali kod predaje zahtjeva\, na radionici morate sudjelovati prije\npredaje zahtjeva.\nRadionica se održava on-line putem Microsoft Teams aplikacije. Pozivnicu za\nuključivanje na radionicu dobiti ćete na e-mail nakon prijave na radionicu.\nViše informacija o potpori za samozapošljavanje saznajte ovdje. \nMolimo da se na radionicu uključite 10 minuta prije početka radionice.
URL:https://radionice.hzz.hr/radionica/radionica-samozaposljavanje-645/
LOCATION:Online radionica\, Croatia (Local Name: Hrvatska)
CATEGORIES:Virtualna radionica
ORGANIZER;CN="HZZ%20Podru%C4%8Dni%20ured%20Slavonski%20Brod":MAILTO:radionice.slavonskibrod@hzz.hr
END:VEVENT
BEGIN:VEVENT
DTSTART;TZID=Europe/Zagreb:20260212T080000
DTEND;TZID=Europe/Zagreb:20260212T100000
DTSTAMP:20260423T065122
CREATED:20260203T082306Z
LAST-MODIFIED:20260203T082306Z
UID:90564-1770883200-1770890400@radionice.hzz.hr
SUMMARY:Radionica Samozapošljavanje 12.02.2026.
DESCRIPTION:Besplatna\, neobvezna (ali bodovno vrednovana) radionica za zainteresirane\nkorisnike potpore za samozapošljavanje. Da bi se bodovi od sudjelovanja na\nradionici priznali kod predaje zahtjeva\, na radionici morate sudjelovati prije\npredaje zahtjeva.\nRadionica se održava on-line putem Microsoft Teams aplikacije. Pozivnicu za\nuključivanje na radionicu dobiti ćete na e-mail nakon prijave na radionicu.\nViše informacija o potpori za samozapošljavanje saznajte ovdje. \nMolimo da se na radionicu uključite 10 minuta prije početka radionice.
URL:https://radionice.hzz.hr/radionica/radionica-samozaposljavanje-12-02-2026/
LOCATION:Online radionica\, Croatia (Local Name: Hrvatska)
CATEGORIES:Virtualna radionica
ORGANIZER;CN="HZZ%20Podru%C4%8Dni%20ured%20Slavonski%20Brod":MAILTO:radionice.slavonskibrod@hzz.hr
END:VEVENT
BEGIN:VEVENT
DTSTART;TZID=Europe/Zagreb:20260219T080000
DTEND;TZID=Europe/Zagreb:20260219T100000
DTSTAMP:20260423T065122
CREATED:20260209T120718Z
LAST-MODIFIED:20260209T120718Z
UID:91032-1771488000-1771495200@radionice.hzz.hr
SUMMARY:Radionica Samozapošljavanje 19.02.2026.
DESCRIPTION:Besplatna\, neobvezna (ali bodovno vrednovana) radionica za zainteresirane\nkorisnike potpore za samozapošljavanje. Da bi se bodovi od sudjelovanja na\nradionici priznali kod predaje zahtjeva\, na radionici morate sudjelovati prije\npredaje zahtjeva.\nRadionica se održava on-line putem Microsoft Teams aplikacije. Pozivnicu za\nuključivanje na radionicu dobiti ćete na e-mail nakon prijave na radionicu.\nViše informacija o potpori za samozapošljavanje saznajte ovdje. \nMolimo da se na radionicu uključite 10 minuta prije početka radionice.
URL:https://radionice.hzz.hr/radionica/radionica-samozaposljavanje-19-02-2026/
LOCATION:Online radionica\, Croatia (Local Name: Hrvatska)
CATEGORIES:Virtualna radionica
ORGANIZER;CN="HZZ%20Podru%C4%8Dni%20ured%20Slavonski%20Brod":MAILTO:radionice.slavonskibrod@hzz.hr
END:VEVENT
END:VCALENDAR