BEGIN:VCALENDAR
VERSION:2.0
PRODID:-//Radionice HZZ-a - ECPv5.16.3.1//NONSGML v1.0//EN
CALSCALE:GREGORIAN
METHOD:PUBLISH
X-ORIGINAL-URL:https://radionice.hzz.hr
X-WR-CALDESC:Radionice za Radionice HZZ-a
REFRESH-INTERVAL;VALUE=DURATION:PT1H
X-Robots-Tag:noindex
X-PUBLISHED-TTL:PT1H
BEGIN:VTIMEZONE
TZID:Europe/Zagreb
BEGIN:DAYLIGHT
TZOFFSETFROM:+0100
TZOFFSETTO:+0200
TZNAME:CEST
DTSTART:20260329T010000
END:DAYLIGHT
BEGIN:STANDARD
TZOFFSETFROM:+0200
TZOFFSETTO:+0100
TZNAME:CET
DTSTART:20261025T010000
END:STANDARD
END:VTIMEZONE
BEGIN:VEVENT
DTSTART;TZID=Europe/Zagreb:20260204T120000
DTEND;TZID=Europe/Zagreb:20260204T140000
DTSTAMP:20260420T014124
CREATED:20260126T092950Z
LAST-MODIFIED:20260126T092950Z
UID:89752-1770206400-1770213600@radionice.hzz.hr
SUMMARY:Radionica Samozapošljavanje
DESCRIPTION:Besplatna\, neobvezna (ali bodovno vrednovana) radionica za zainteresirane\nkorisnike potpore za samozapošljavanje. Da bi se bodovi od sudjelovanja na\nradionici priznali kod predaje zahtjeva\, na radionici morate sudjelovati prije\npredaje zahtjeva.\nRadionica se održava on-line putem Microsoft Teams aplikacije. Pozivnicu za\nuključivanje na radionicu dobiti ćete na e-mail nakon prijave na radionicu.\nViše informacija o potpori za samozapošljavanje saznajte ovdje. \nMolimo da se na radionicu uključite 10 minuta prije početka radionice.
URL:https://radionice.hzz.hr/radionica/radionica-samozaposljavanje-641/
LOCATION:Online radionica\, Croatia (Local Name: Hrvatska)
CATEGORIES:Virtualna radionica
ORGANIZER;CN="HZZ%20Podru%C4%8Dni%20ured%20Vinkovci":MAILTO:radionice.vinkovci@hzz.hr
END:VEVENT
BEGIN:VEVENT
DTSTART;TZID=Europe/Zagreb:20260213T120000
DTEND;TZID=Europe/Zagreb:20260213T140000
DTSTAMP:20260420T014124
CREATED:20260203T065949Z
LAST-MODIFIED:20260203T065949Z
UID:90554-1770984000-1770991200@radionice.hzz.hr
SUMMARY:Radionica o samozapošljavanju
DESCRIPTION:Besplatna\, neobvezna (ali bodovno vrednovana) radionica za zainteresirane korisnike potpore za samozapošljavanje. Da bi se bodovi od sudjelovanja na radionici priznali kod predaje zahtjeva\, na radionici morate sudjelovati prije predaje zahtjeva. Radionice se održavaju on-line putem Microsoft Teams aplikacije. \nPreporuka je da se prijavite na radionicu koju organizira HZZ-ov Područni/Regionalni ured u županiji u kojoj planirate osnovati poslovni subjekt radi efikasnije komunikacije sa savjetnikom\, a što će Vam biti značajna pomoć kod predaje zahtjeva i kasnije kod praćenja korištenja potpore tijekom godine.\nNakon prijave ćete dobiti potvrdni e-mail. Ako e-mail sadrži informacije o uključivanju na on-line radionicu\, sačuvajte e-mail jer će vam na dan održavanja radionice trebati link za uključivanje na radionicu (Microsoft Teams sastanak). Link će biti aktivan najranije 15 minuta prije početka radionice. \nViše informacija o potpori za samozapošljavanje možete pronaći na web stranici www.mjere.hzz.hr \nUkoliko nije dostupna opcija najave dolaska na radionicu (nema oznake “dolazim” na koju se može kliknuti)\, isto znači da su sva mjesta na radionici zauzeta ili je istekao rok do kojega zaprimamo najave dolaska na ovu radionicu
URL:https://radionice.hzz.hr/radionica/radionica-o-samozaposljavanju-133/
LOCATION:Online radionica\, Croatia (Local Name: Hrvatska)
CATEGORIES:Virtualna radionica
ORGANIZER;CN="HZZ%20Podru%C4%8Dni%20ured%20Vinkovci":MAILTO:radionice.vinkovci@hzz.hr
END:VEVENT
BEGIN:VEVENT
DTSTART;TZID=Europe/Zagreb:20260219T120000
DTEND;TZID=Europe/Zagreb:20260219T140000
DTSTAMP:20260420T014124
CREATED:20260210T133744Z
LAST-MODIFIED:20260210T133744Z
UID:91175-1771502400-1771509600@radionice.hzz.hr
SUMMARY:Radionica o samozapošljavanju
DESCRIPTION:Besplatna\, neobvezna (ali bodovno vrednovana) radionica za zainteresirane korisnike potpore za samozapošljavanje. Da bi se bodovi od sudjelovanja na radionici priznali kod predaje zahtjeva\, na radionici morate sudjelovati prije predaje zahtjeva. Radionice se održavaju on-line putem Microsoft Teams aplikacije. \nPreporuka je da se prijavite na radionicu koju organizira HZZ-ov Područni/Regionalni ured u županiji u kojoj planirate osnovati poslovni subjekt radi efikasnije komunikacije sa savjetnikom\, a što će Vam biti značajna pomoć kod predaje zahtjeva i kasnije kod praćenja korištenja potpore tijekom godine.\nNakon prijave ćete dobiti potvrdni e-mail. Ako e-mail sadrži informacije o uključivanju na on-line radionicu\, sačuvajte e-mail jer će vam na dan održavanja radionice trebati link za uključivanje na radionicu (Microsoft Teams sastanak). Link će biti aktivan najranije 15 minuta prije početka radionice. Ako se u e-mailu ne nalaze upute za uključivanje na radionicu\, najkasnije 1 dan prije radionice dobiti će te dodatni e-mail s uputom i linkom za uključivanje na radionicu. \nViše informacija o potpori za samozapošljavanje možete pronaći na web stranici www.mjere.hzz.hr \nNAPOMENA: Ukoliko nije dostupna opcija najave dolaska na radionicu (nema oznake “dolazim” na koju se može kliknuti)\, isto znači da su sva mjesta na radionici zauzeta ili je istekao rok do kojega zaprimamo najave dolaska na ovu radionicu
URL:https://radionice.hzz.hr/radionica/radionica-o-samozaposljavanju-136/
LOCATION:Online radionica\, Croatia (Local Name: Hrvatska)
CATEGORIES:Virtualna radionica
ORGANIZER;CN="HZZ%20Podru%C4%8Dni%20ured%20Vinkovci":MAILTO:radionice.vinkovci@hzz.hr
END:VEVENT
END:VCALENDAR